BEGIN:VCALENDAR
VERSION:2.0
PRODID:-//High Five Taekwondo - ECPv6.15.20//NONSGML v1.0//EN
CALSCALE:GREGORIAN
METHOD:PUBLISH
X-ORIGINAL-URL:https://www.highfivetkd.se
X-WR-CALDESC:Händelser för High Five Taekwondo
REFRESH-INTERVAL;VALUE=DURATION:PT1H
X-Robots-Tag:noindex
X-PUBLISHED-TTL:PT1H
BEGIN:VTIMEZONE
TZID:UTC
BEGIN:STANDARD
TZOFFSETFROM:+0000
TZOFFSETTO:+0000
TZNAME:UTC
DTSTART:20240101T000000
END:STANDARD
END:VTIMEZONE
BEGIN:VEVENT
DTSTART;TZID=UTC:20250530T170000
DTEND;TZID=UTC:20250530T190000
DTSTAMP:20260421T081026
CREATED:20250318T144220Z
LAST-MODIFIED:20250318T144220Z
UID:1229-1748624400-1748631600@www.highfivetkd.se
SUMMARY:Gradering nybörjare
DESCRIPTION:Fredagen den 30 maj är det dags för nybörjargruppen att gradera. \n  \n  \n 
URL:https://www.highfivetkd.se/event/gradering-nyborjare-2/
END:VEVENT
END:VCALENDAR